BEGIN:VCALENDAR
PRODID:Nexudus
VERSION:2.0
BEGIN:VTIMEZONE
TZID:America/Los_Angeles
X-LIC-LOCATION:America/Los_Angeles
BEGIN:STANDARD
DTSTART:20241103T020000
RRULE:FREQ=YEARLY;BYDAY=1SU;BYMONTH=11
TZNAME:PST
TZOFFSETFROM:-0700
TZOFFSETTO:-0800
END:STANDARD
BEGIN:DAYLIGHT
DTSTART:20250309T020000
RRULE:FREQ=YEARLY;BYDAY=2SU;BYMONTH=3
TZNAME:PDT
TZOFFSETFROM:-0800
TZOFFSETTO:-0700
END:DAYLIGHT
END:VTIMEZONE
BEGIN:VEVENT
DESCRIPTION:\nEvent link: https://thehiverysf.spaces.nexudus.com/en/events/
 view/1270156004/investing-in-the-power-of-women-with-acumen\n
DTEND;TZID=America/Los_Angeles:20200305T130000
DTSTAMP:20260420T132347Z
DTSTART;TZID=America/Los_Angeles:20200305T120000
LOCATION:The Hivery San Francisco
SEQUENCE:0
SUMMARY:Investing in the Power of Women with Acumen
UID:163f2bd2-b64f-4c5b-ad3b-3eba9a5fd014
END:VEVENT
END:VCALENDAR
