BEGIN:VCALENDAR
PRODID:Nexudus
VERSION:2.0
BEGIN:VTIMEZONE
TZID:America/Los_Angeles
X-LIC-LOCATION:America/Los_Angeles
BEGIN:STANDARD
DTSTART:20241103T020000
RRULE:FREQ=YEARLY;BYDAY=1SU;BYMONTH=11
TZNAME:PST
TZOFFSETFROM:-0700
TZOFFSETTO:-0800
END:STANDARD
BEGIN:DAYLIGHT
DTSTART:20250309T020000
RRULE:FREQ=YEARLY;BYDAY=2SU;BYMONTH=3
TZNAME:PDT
TZOFFSETFROM:-0800
TZOFFSETTO:-0700
END:DAYLIGHT
END:VTIMEZONE
BEGIN:VEVENT
DESCRIPTION:\nEvent link: https://thehiverysf.spaces.nexudus.com/en/events/
 view/1245832654/finding-your-authentic-unique-voice-with-laura-munson\n
DTEND;TZID=America/Los_Angeles:20200516T133000
DTSTAMP:20260420T112551Z
DTSTART;TZID=America/Los_Angeles:20200516T093000
LOCATION:The Hivery Virtual
SEQUENCE:0
SUMMARY:Finding Your Authentic Unique Voice with Laura Munson
UID:227d1f20-1f2f-4778-9a46-fb7738f4bece
END:VEVENT
END:VCALENDAR
