BEGIN:VCALENDAR
PRODID:Nexudus
VERSION:2.0
BEGIN:VTIMEZONE
TZID:America/Los_Angeles
X-LIC-LOCATION:America/Los_Angeles
BEGIN:STANDARD
DTSTART:20241103T020000
RRULE:FREQ=YEARLY;BYDAY=1SU;BYMONTH=11
TZNAME:PST
TZOFFSETFROM:-0700
TZOFFSETTO:-0800
END:STANDARD
BEGIN:DAYLIGHT
DTSTART:20250309T020000
RRULE:FREQ=YEARLY;BYDAY=2SU;BYMONTH=3
TZNAME:PDT
TZOFFSETFROM:-0800
TZOFFSETTO:-0700
END:DAYLIGHT
END:VTIMEZONE
BEGIN:VEVENT
DESCRIPTION:\nEvent link: https://thehiverysf.spaces.nexudus.com/en/events/
 view/1276646452/project-action--taxes--with-moxie-road\n
DTEND;TZID=America/Los_Angeles:20200324T134500
DTSTAMP:20260420T095016Z
DTSTART;TZID=America/Los_Angeles:20200324T123000
LOCATION:The Hivery San Francisco
SEQUENCE:0
SUMMARY:Project Action: TAXES! with Moxie Road
UID:132c7028-7239-42eb-81cd-9d8434c7b970
END:VEVENT
END:VCALENDAR
