BEGIN:VCALENDAR
PRODID:Nexudus
VERSION:2.0
BEGIN:VTIMEZONE
TZID:America/Los_Angeles
X-LIC-LOCATION:America/Los_Angeles
BEGIN:STANDARD
DTSTART:20241103T020000
RRULE:FREQ=YEARLY;BYDAY=1SU;BYMONTH=11
TZNAME:PST
TZOFFSETFROM:-0700
TZOFFSETTO:-0800
END:STANDARD
BEGIN:DAYLIGHT
DTSTART:20250309T020000
RRULE:FREQ=YEARLY;BYDAY=2SU;BYMONTH=3
TZNAME:PDT
TZOFFSETFROM:-0800
TZOFFSETTO:-0700
END:DAYLIGHT
END:VTIMEZONE
BEGIN:VEVENT
DESCRIPTION:\nEvent link: https://thehiverysf.spaces.nexudus.com/en/events/
 view/1269735580/the-power-of-owning-your-expertise--knowing-your-value---g
 etting-the-outcomes-you-want-with-elisa-camahort-page\n
DTEND;TZID=America/Los_Angeles:20200421T170000
DTSTAMP:20260420T095003Z
DTSTART;TZID=America/Los_Angeles:20200421T143000
LOCATION:The Hivery San Francisco
SEQUENCE:0
SUMMARY:The Power of Owning Your Expertise\, Knowing Your Value & Getting T
 he Outcomes You Want with Elisa Camahort Page
UID:243f3cbb-a52c-4d45-a738-bbf6550a4af8
END:VEVENT
END:VCALENDAR
