BEGIN:VCALENDAR
PRODID:Nexudus
VERSION:2.0
BEGIN:VTIMEZONE
TZID:America/Los_Angeles
X-LIC-LOCATION:America/Los_Angeles
BEGIN:STANDARD
DTSTART:20241103T020000
RRULE:FREQ=YEARLY;BYDAY=1SU;BYMONTH=11
TZNAME:PST
TZOFFSETFROM:-0700
TZOFFSETTO:-0800
END:STANDARD
BEGIN:DAYLIGHT
DTSTART:20250309T020000
RRULE:FREQ=YEARLY;BYDAY=2SU;BYMONTH=3
TZNAME:PDT
TZOFFSETFROM:-0800
TZOFFSETTO:-0700
END:DAYLIGHT
END:VTIMEZONE
BEGIN:VEVENT
DESCRIPTION:\nEvent link: https://thehiverysf.spaces.nexudus.com/en/events/
 view/1222392854/the-transformation--discovering-wholeness-and-healing-afte
 r-trauma-with-james-gordon\n
DTEND;TZID=America/Los_Angeles:20200109T210000
DTSTAMP:20260420T132058Z
DTSTART;TZID=America/Los_Angeles:20200109T190000
LOCATION:The Hivery San Francisco
SEQUENCE:0
SUMMARY:The Transformation: Discovering Wholeness and Healing After Trauma 
 with James Gordon
UID:5e30c440-41f7-43e0-828d-d39acd89bc8a
END:VEVENT
END:VCALENDAR
