BEGIN:VCALENDAR
PRODID:Nexudus
VERSION:2.0
BEGIN:VTIMEZONE
TZID:America/Los_Angeles
X-LIC-LOCATION:America/Los_Angeles
BEGIN:STANDARD
DTSTART:20241103T020000
RRULE:FREQ=YEARLY;BYDAY=1SU;BYMONTH=11
TZNAME:PST
TZOFFSETFROM:-0700
TZOFFSETTO:-0800
END:STANDARD
BEGIN:DAYLIGHT
DTSTART:20250309T020000
RRULE:FREQ=YEARLY;BYDAY=2SU;BYMONTH=3
TZNAME:PDT
TZOFFSETFROM:-0800
TZOFFSETTO:-0700
END:DAYLIGHT
END:VTIMEZONE
BEGIN:VEVENT
DESCRIPTION:\nEvent link: https://thehiverysf.spaces.nexudus.com/en/events/
 view/1219488272/hivery-circle--intentions-setting-for-2020-with-cora-found
 er-molly-hayward\n
DTEND;TZID=America/Los_Angeles:20200122T210000
DTSTAMP:20260420T131935Z
DTSTART;TZID=America/Los_Angeles:20200122T190000
LOCATION:The Hivery San Francisco
SEQUENCE:0
SUMMARY:Hivery Circle: Intentions Setting for 2020 with Cora Founder Molly 
 Hayward
UID:d34041c5-5e36-45ca-88d7-808408d59b61
END:VEVENT
END:VCALENDAR
