BEGIN:VCALENDAR
PRODID:Nexudus
VERSION:2.0
BEGIN:VTIMEZONE
TZID:America/Los_Angeles
X-LIC-LOCATION:America/Los_Angeles
BEGIN:STANDARD
DTSTART:20241103T020000
RRULE:FREQ=YEARLY;BYDAY=1SU;BYMONTH=11
TZNAME:PST
TZOFFSETFROM:-0700
TZOFFSETTO:-0800
END:STANDARD
BEGIN:DAYLIGHT
DTSTART:20250309T020000
RRULE:FREQ=YEARLY;BYDAY=2SU;BYMONTH=3
TZNAME:PDT
TZOFFSETFROM:-0800
TZOFFSETTO:-0700
END:DAYLIGHT
END:VTIMEZONE
BEGIN:VEVENT
DESCRIPTION:\nEvent link: https://thehiverysf.spaces.nexudus.com/en/events/
 view/1212562632/info-session--the-hivery-incubator-winter-2020-program-wit
 h-grace-kraaijvanger\n
DTEND;TZID=America/Los_Angeles:20191219T131500
DTSTAMP:20260420T132052Z
DTSTART;TZID=America/Los_Angeles:20191219T120000
LOCATION:The Hivery San Francisco
SEQUENCE:0
SUMMARY:Info Session: The Hivery Incubator Winter 2020 Program with Grace K
 raaijvanger
UID:fff7f9a8-8487-4d63-963b-bdc5eba29152
END:VEVENT
END:VCALENDAR
