BEGIN:VCALENDAR
PRODID:Nexudus
VERSION:2.0
BEGIN:VTIMEZONE
TZID:America/Los_Angeles
X-LIC-LOCATION:America/Los_Angeles
BEGIN:STANDARD
DTSTART:20241103T020000
RRULE:FREQ=YEARLY;BYDAY=1SU;BYMONTH=11
TZNAME:PST
TZOFFSETFROM:-0700
TZOFFSETTO:-0800
END:STANDARD
BEGIN:DAYLIGHT
DTSTART:20250309T020000
RRULE:FREQ=YEARLY;BYDAY=2SU;BYMONTH=3
TZNAME:PDT
TZOFFSETFROM:-0800
TZOFFSETTO:-0700
END:DAYLIGHT
END:VTIMEZONE
BEGIN:VEVENT
DESCRIPTION:\nEvent link: https://thehiverysf.spaces.nexudus.com/en/events/
 view/1202942756/attitude-of-gratitude--an-evening-of-community--belonging-
 -and-mindfulness\n
DTEND;TZID=America/Los_Angeles:20191208T200000
DTSTAMP:20260420T144423Z
DTSTART;TZID=America/Los_Angeles:20191208T180000
LOCATION:The Hivery San Francisco
SEQUENCE:0
SUMMARY:Attitude of Gratitude: An Evening of Community\, Belonging\, and Mi
 ndfulness
UID:65c465b4-c9df-4d42-a7a4-d1838a3fba67
END:VEVENT
END:VCALENDAR
