BEGIN:VCALENDAR
PRODID:Nexudus
VERSION:2.0
BEGIN:VTIMEZONE
TZID:America/Los_Angeles
X-LIC-LOCATION:America/Los_Angeles
BEGIN:STANDARD
DTSTART:20241103T020000
RRULE:FREQ=YEARLY;BYDAY=1SU;BYMONTH=11
TZNAME:PST
TZOFFSETFROM:-0700
TZOFFSETTO:-0800
END:STANDARD
BEGIN:DAYLIGHT
DTSTART:20250309T020000
RRULE:FREQ=YEARLY;BYDAY=2SU;BYMONTH=3
TZNAME:PDT
TZOFFSETFROM:-0800
TZOFFSETTO:-0700
END:DAYLIGHT
END:VTIMEZONE
BEGIN:VEVENT
DESCRIPTION:\nEvent link: https://thehiverysf.spaces.nexudus.com/en/events/
 view/1284651379/project-action--spice-up-your-social--media--life-with-mox
 ie-road\n
DTEND;TZID=America/Los_Angeles:20200512T133000
DTSTAMP:20260420T114203Z
DTSTART;TZID=America/Los_Angeles:20200512T123000
LOCATION:The Hivery San Francisco
SEQUENCE:0
SUMMARY:Project Action: Spice up Your Social (Media) Life with Moxie Road
UID:135732f7-0ae2-4767-a595-17fb54535f3f
END:VEVENT
END:VCALENDAR
