BEGIN:VCALENDAR
PRODID:Nexudus
VERSION:2.0
BEGIN:VTIMEZONE
TZID:America/Los_Angeles
X-LIC-LOCATION:America/Los_Angeles
BEGIN:STANDARD
DTSTART:20241103T020000
RRULE:FREQ=YEARLY;BYDAY=1SU;BYMONTH=11
TZNAME:PST
TZOFFSETFROM:-0700
TZOFFSETTO:-0800
END:STANDARD
BEGIN:DAYLIGHT
DTSTART:20250309T020000
RRULE:FREQ=YEARLY;BYDAY=2SU;BYMONTH=3
TZNAME:PDT
TZOFFSETFROM:-0800
TZOFFSETTO:-0700
END:DAYLIGHT
END:VTIMEZONE
BEGIN:VEVENT
DESCRIPTION:\nEvent link: https://thehiverysf.spaces.nexudus.com/en/events/
 view/1276650571/hivery-circle--bits-and-bending-with-hilah-and-bex\n
DTEND;TZID=America/Los_Angeles:20200318T210000
DTSTAMP:20260420T132630Z
DTSTART;TZID=America/Los_Angeles:20200318T190000
LOCATION:The Hivery San Francisco
SEQUENCE:0
SUMMARY:Hivery Circle: Bits and Bending with Hilah and Bex
UID:3e457b3b-9a10-4433-ace4-65908ec98cb6
END:VEVENT
END:VCALENDAR
