BEGIN:VCALENDAR
PRODID:Nexudus
VERSION:2.0
BEGIN:VTIMEZONE
TZID:America/Los_Angeles
X-LIC-LOCATION:America/Los_Angeles
BEGIN:STANDARD
DTSTART:20241103T020000
RRULE:FREQ=YEARLY;BYDAY=1SU;BYMONTH=11
TZNAME:PST
TZOFFSETFROM:-0700
TZOFFSETTO:-0800
END:STANDARD
BEGIN:DAYLIGHT
DTSTART:20250309T020000
RRULE:FREQ=YEARLY;BYDAY=2SU;BYMONTH=3
TZNAME:PDT
TZOFFSETFROM:-0800
TZOFFSETTO:-0700
END:DAYLIGHT
END:VTIMEZONE
BEGIN:VEVENT
DESCRIPTION:\nEvent link: https://thehiverysf.spaces.nexudus.com/en/events/
 view/1247821585/building-a-successful-community-based-organization-with-po
 werful-beyond-measure\n
DTEND;TZID=America/Los_Angeles:20200225T134500
DTSTAMP:20260420T144515Z
DTSTART;TZID=America/Los_Angeles:20200225T123000
LOCATION:The Hivery San Francisco
SEQUENCE:0
SUMMARY:Building a Successful Community-based Organization with Powerful Be
 yond Measure
UID:615287f6-5f04-4d65-8091-3a6f5b46759a
END:VEVENT
END:VCALENDAR
