BEGIN:VCALENDAR
PRODID:Nexudus
VERSION:2.0
BEGIN:VTIMEZONE
TZID:America/Los_Angeles
X-LIC-LOCATION:America/Los_Angeles
BEGIN:STANDARD
DTSTART:20241103T020000
RRULE:FREQ=YEARLY;BYDAY=1SU;BYMONTH=11
TZNAME:PST
TZOFFSETFROM:-0700
TZOFFSETTO:-0800
END:STANDARD
BEGIN:DAYLIGHT
DTSTART:20250309T020000
RRULE:FREQ=YEARLY;BYDAY=2SU;BYMONTH=3
TZNAME:PDT
TZOFFSETFROM:-0800
TZOFFSETTO:-0700
END:DAYLIGHT
END:VTIMEZONE
BEGIN:VEVENT
DESCRIPTION:\nEvent link: https://thehiverysf.spaces.nexudus.com/en/events/
 view/1232584454/moxie-at-the-mic--naked-with-strangers-an-evening-of-story
 telling-for-all-hearts\n
DTEND;TZID=America/Los_Angeles:20200213T203000
DTSTAMP:20260420T144704Z
DTSTART;TZID=America/Los_Angeles:20200213T190000
LOCATION:The Hivery San Francisco
SEQUENCE:0
SUMMARY:Moxie at the Mic: Naked with Strangers—An Evening of Storytelling
  for All Hearts
UID:7ef9bd26-466c-4d0c-8d62-95473f99d458
END:VEVENT
END:VCALENDAR
