BEGIN:VCALENDAR
PRODID:Nexudus
VERSION:2.0
BEGIN:VTIMEZONE
TZID:America/Los_Angeles
X-LIC-LOCATION:America/Los_Angeles
BEGIN:STANDARD
DTSTART:20241103T020000
RRULE:FREQ=YEARLY;BYDAY=1SU;BYMONTH=11
TZNAME:PST
TZOFFSETFROM:-0700
TZOFFSETTO:-0800
END:STANDARD
BEGIN:DAYLIGHT
DTSTART:20250309T020000
RRULE:FREQ=YEARLY;BYDAY=2SU;BYMONTH=3
TZNAME:PDT
TZOFFSETFROM:-0800
TZOFFSETTO:-0700
END:DAYLIGHT
END:VTIMEZONE
BEGIN:VEVENT
DESCRIPTION:\nEvent link: https://thehiverysf.spaces.nexudus.com/en/events/
 view/1219677459/grow-your-life---work-without-the-hustle-with-sweta-chawla
 \n
DTEND;TZID=America/Los_Angeles:20200107T134500
DTSTAMP:20260420T144510Z
DTSTART;TZID=America/Los_Angeles:20200107T123000
LOCATION:The Hivery San Francisco
SEQUENCE:0
SUMMARY:Grow your Life & Work without the Hustle with Sweta Chawla
UID:a9d880ed-39a9-47ef-a747-2c9344235b52
END:VEVENT
END:VCALENDAR
