BEGIN:VCALENDAR
PRODID:Nexudus
VERSION:2.0
BEGIN:VTIMEZONE
TZID:America/Los_Angeles
X-LIC-LOCATION:America/Los_Angeles
BEGIN:STANDARD
DTSTART:20241103T020000
RRULE:FREQ=YEARLY;BYDAY=1SU;BYMONTH=11
TZNAME:PST
TZOFFSETFROM:-0700
TZOFFSETTO:-0800
END:STANDARD
BEGIN:DAYLIGHT
DTSTART:20250309T020000
RRULE:FREQ=YEARLY;BYDAY=2SU;BYMONTH=3
TZNAME:PDT
TZOFFSETFROM:-0800
TZOFFSETTO:-0700
END:DAYLIGHT
END:VTIMEZONE
BEGIN:VEVENT
DESCRIPTION:\nEvent link: https://thehiverysf.spaces.nexudus.com/en/events/
 view/1199792602/radiate-beauty---wellness-from-the-inside-out---lunch---le
 arn-with-neely-mack\n
DTEND;TZID=America/Los_Angeles:20191205T140000
DTSTAMP:20260420T163534Z
DTSTART;TZID=America/Los_Angeles:20191205T120000
LOCATION:The Hivery San Francisco
SEQUENCE:0
SUMMARY:Radiate Beauty + Wellness From the Inside Out:  Lunch & Learn with 
 Neely Mack
UID:1c97628c-7798-4041-95ed-ec6014a0de29
END:VEVENT
END:VCALENDAR
