BEGIN:VCALENDAR
PRODID:Nexudus
VERSION:2.0
BEGIN:VTIMEZONE
TZID:America/Los_Angeles
X-LIC-LOCATION:America/Los_Angeles
BEGIN:STANDARD
DTSTART:20241103T020000
RRULE:FREQ=YEARLY;BYDAY=1SU;BYMONTH=11
TZNAME:PST
TZOFFSETFROM:-0700
TZOFFSETTO:-0800
END:STANDARD
BEGIN:DAYLIGHT
DTSTART:20250309T020000
RRULE:FREQ=YEARLY;BYDAY=2SU;BYMONTH=3
TZNAME:PDT
TZOFFSETFROM:-0800
TZOFFSETTO:-0700
END:DAYLIGHT
END:VTIMEZONE
BEGIN:VEVENT
DESCRIPTION:\nEvent link: https://thehiverysf.spaces.nexudus.com/en/events/
 view/1194243139/the-hivery-member-holiday-party-2019\n
DTEND;TZID=America/Los_Angeles:20191210T210000
DTSTAMP:20260420T163959Z
DTSTART;TZID=America/Los_Angeles:20191210T190000
LOCATION:The Hivery San Francisco
SEQUENCE:0
SUMMARY:The Hivery Member Holiday Party 2019
UID:fded61e7-25dd-411a-88a6-78fcf345a3ee
END:VEVENT
END:VCALENDAR
