BEGIN:VCALENDAR
PRODID:Nexudus
VERSION:2.0
BEGIN:VTIMEZONE
TZID:America/Los_Angeles
X-LIC-LOCATION:America/Los_Angeles
BEGIN:STANDARD
DTSTART:20241103T020000
RRULE:FREQ=YEARLY;BYDAY=1SU;BYMONTH=11
TZNAME:PST
TZOFFSETFROM:-0700
TZOFFSETTO:-0800
END:STANDARD
BEGIN:DAYLIGHT
DTSTART:20250309T020000
RRULE:FREQ=YEARLY;BYDAY=2SU;BYMONTH=3
TZNAME:PDT
TZOFFSETFROM:-0800
TZOFFSETTO:-0700
END:DAYLIGHT
END:VTIMEZONE
BEGIN:VEVENT
DESCRIPTION:\nEvent link: https://thehiverysf.spaces.nexudus.com/en/events/
 view/1270155969/the-product-of-you--a-virtual-personal-branding-workshop-w
 ith-grace-kraaijvanger\n
DTEND;TZID=America/Los_Angeles:20200505T120000
DTSTAMP:20260420T114508Z
DTSTART;TZID=America/Los_Angeles:20200505T093000
LOCATION:The Hivery Virtual
SEQUENCE:0
SUMMARY:The Product of You: A Virtual Personal Branding Workshop with Grace
  Kraaijvanger
UID:317454ca-2426-4dad-9d07-10222196ae69
END:VEVENT
END:VCALENDAR
