BEGIN:VCALENDAR
PRODID:Nexudus
VERSION:2.0
BEGIN:VTIMEZONE
TZID:America/Los_Angeles
X-LIC-LOCATION:America/Los_Angeles
BEGIN:STANDARD
DTSTART:20241103T020000
RRULE:FREQ=YEARLY;BYDAY=1SU;BYMONTH=11
TZNAME:PST
TZOFFSETFROM:-0700
TZOFFSETTO:-0800
END:STANDARD
BEGIN:DAYLIGHT
DTSTART:20250309T020000
RRULE:FREQ=YEARLY;BYDAY=2SU;BYMONTH=3
TZNAME:PDT
TZOFFSETFROM:-0800
TZOFFSETTO:-0700
END:DAYLIGHT
END:VTIMEZONE
BEGIN:VEVENT
DESCRIPTION:\nEvent link: https://thehiverysf.spaces.nexudus.com/en/events/
 view/1269880169/embody-your-communication--lessons-from-inside-the-beehive
 -with-daksha\n
DTEND;TZID=America/Los_Angeles:20200407T134500
DTSTAMP:20260420T112552Z
DTSTART;TZID=America/Los_Angeles:20200407T123000
LOCATION:The Hivery San Francisco
SEQUENCE:0
SUMMARY:Embody Your Communication: Lessons from Inside the Beehive with Dak
 sha
UID:13d32363-b2ee-4387-8e29-0333e3910d92
END:VEVENT
END:VCALENDAR
