BEGIN:VCALENDAR
PRODID:Nexudus
VERSION:2.0
BEGIN:VTIMEZONE
TZID:America/Los_Angeles
X-LIC-LOCATION:America/Los_Angeles
BEGIN:STANDARD
DTSTART:20241103T020000
RRULE:FREQ=YEARLY;BYDAY=1SU;BYMONTH=11
TZNAME:PST
TZOFFSETFROM:-0700
TZOFFSETTO:-0800
END:STANDARD
BEGIN:DAYLIGHT
DTSTART:20250309T020000
RRULE:FREQ=YEARLY;BYDAY=2SU;BYMONTH=3
TZNAME:PDT
TZOFFSETFROM:-0800
TZOFFSETTO:-0700
END:DAYLIGHT
END:VTIMEZONE
BEGIN:VEVENT
DESCRIPTION:\nEvent link: https://thehiverysf.spaces.nexudus.com/en/events/
 view/1245832655/an-evening-in-celebration-of-willa-s-grove--a-new-novel-by
 -laura-munson\n
DTEND;TZID=America/Los_Angeles:20200313T210000
DTSTAMP:20260420T132304Z
DTSTART;TZID=America/Los_Angeles:20200313T190000
LOCATION:The Hivery San Francisco
SEQUENCE:0
SUMMARY:An Evening in Celebration of Willa’s Grove\, A New Novel by Laura
  Munson
UID:e548e672-dd13-42d3-9705-bbcfbcfd384c
END:VEVENT
END:VCALENDAR
