BEGIN:VCALENDAR
PRODID:Nexudus
VERSION:2.0
BEGIN:VTIMEZONE
TZID:America/Los_Angeles
X-LIC-LOCATION:America/Los_Angeles
BEGIN:STANDARD
DTSTART:20241103T020000
RRULE:FREQ=YEARLY;BYDAY=1SU;BYMONTH=11
TZNAME:PST
TZOFFSETFROM:-0700
TZOFFSETTO:-0800
END:STANDARD
BEGIN:DAYLIGHT
DTSTART:20250309T020000
RRULE:FREQ=YEARLY;BYDAY=2SU;BYMONTH=3
TZNAME:PDT
TZOFFSETFROM:-0800
TZOFFSETTO:-0700
END:DAYLIGHT
END:VTIMEZONE
BEGIN:VEVENT
DESCRIPTION:\nEvent link: https://thehiverysf.spaces.nexudus.com/en/events/
 view/1237835768/paint-your-own-intention-target-with-carrie-leeb\n
DTEND;TZID=America/Los_Angeles:20200204T134500
DTSTAMP:20260420T144424Z
DTSTART;TZID=America/Los_Angeles:20200204T123000
LOCATION:The Hivery San Francisco
SEQUENCE:0
SUMMARY:Paint Your Own Intention Target with Carrie Leeb
UID:489b820f-e4fb-4149-aafa-0a141966e0c9
END:VEVENT
END:VCALENDAR
