BEGIN:VCALENDAR
PRODID:Nexudus
VERSION:2.0
BEGIN:VTIMEZONE
TZID:America/Los_Angeles
X-LIC-LOCATION:America/Los_Angeles
BEGIN:STANDARD
DTSTART:20241103T020000
RRULE:FREQ=YEARLY;BYDAY=1SU;BYMONTH=11
TZNAME:PST
TZOFFSETFROM:-0700
TZOFFSETTO:-0800
END:STANDARD
BEGIN:DAYLIGHT
DTSTART:20250309T020000
RRULE:FREQ=YEARLY;BYDAY=2SU;BYMONTH=3
TZNAME:PDT
TZOFFSETFROM:-0800
TZOFFSETTO:-0700
END:DAYLIGHT
END:VTIMEZONE
BEGIN:VEVENT
DESCRIPTION:\nEvent link: https://thehiverysf.spaces.nexudus.com/en/events/
 view/1171265142/brunch-with-lynne-twist-in-support-of-ikiama-nukuri\n
DTEND;TZID=America/Los_Angeles:20191116T130000
DTSTAMP:20260420T163713Z
DTSTART;TZID=America/Los_Angeles:20191116T100000
LOCATION:The Hivery San Francisco
SEQUENCE:0
SUMMARY:Brunch with Lynne Twist in Support of Ikiama Nukuri
UID:5da6485f-eed6-4a46-862c-2260ac03ea60
END:VEVENT
END:VCALENDAR
