BEGIN:VCALENDAR
PRODID:Nexudus
VERSION:2.0
BEGIN:VTIMEZONE
TZID:America/Los_Angeles
X-LIC-LOCATION:America/Los_Angeles
BEGIN:STANDARD
DTSTART:20241103T020000
RRULE:FREQ=YEARLY;BYDAY=1SU;BYMONTH=11
TZNAME:PST
TZOFFSETFROM:-0700
TZOFFSETTO:-0800
END:STANDARD
BEGIN:DAYLIGHT
DTSTART:20250309T020000
RRULE:FREQ=YEARLY;BYDAY=2SU;BYMONTH=3
TZNAME:PDT
TZOFFSETFROM:-0800
TZOFFSETTO:-0700
END:DAYLIGHT
END:VTIMEZONE
BEGIN:VEVENT
DESCRIPTION:\nEvent link: https://thehiverysf.spaces.nexudus.com/en/events/
 view/1255155907/the-breathwork-circle-with-molly-hayward\n
DTEND;TZID=America/Los_Angeles:20200409T210000
DTSTAMP:20260420T112728Z
DTSTART;TZID=America/Los_Angeles:20200409T190000
LOCATION:The Hivery San Francisco
SEQUENCE:0
SUMMARY:The Breathwork Circle with Molly Hayward
UID:1ee51630-1d79-46d2-926b-2c1585062d3f
END:VEVENT
END:VCALENDAR
