BEGIN:VCALENDAR
PRODID:Nexudus
VERSION:2.0
BEGIN:VTIMEZONE
TZID:America/Los_Angeles
X-LIC-LOCATION:America/Los_Angeles
BEGIN:STANDARD
DTSTART:20241103T020000
RRULE:FREQ=YEARLY;BYDAY=1SU;BYMONTH=11
TZNAME:PST
TZOFFSETFROM:-0700
TZOFFSETTO:-0800
END:STANDARD
BEGIN:DAYLIGHT
DTSTART:20250309T020000
RRULE:FREQ=YEARLY;BYDAY=2SU;BYMONTH=3
TZNAME:PDT
TZOFFSETFROM:-0800
TZOFFSETTO:-0700
END:DAYLIGHT
END:VTIMEZONE
BEGIN:VEVENT
DESCRIPTION:\nEvent link: https://thehiverysf.spaces.nexudus.com/en/events/
 view/1215546400/set-better-goals-and-achieve-them-with-lindsay-walsh\n
DTEND;TZID=America/Los_Angeles:20200128T134500
DTSTAMP:20260420T164134Z
DTSTART;TZID=America/Los_Angeles:20200128T123000
LOCATION:The Hivery San Francisco
SEQUENCE:0
SUMMARY:Set Better Goals and Achieve Them with Lindsay Walsh
UID:31ed5681-fff7-4c23-8e57-a1f2f615ab93
END:VEVENT
END:VCALENDAR
