BEGIN:VCALENDAR
PRODID:Nexudus
VERSION:2.0
BEGIN:VTIMEZONE
TZID:America/Los_Angeles
X-LIC-LOCATION:America/Los_Angeles
BEGIN:STANDARD
DTSTART:20241103T020000
RRULE:FREQ=YEARLY;BYDAY=1SU;BYMONTH=11
TZNAME:PST
TZOFFSETFROM:-0700
TZOFFSETTO:-0800
END:STANDARD
BEGIN:DAYLIGHT
DTSTART:20250309T020000
RRULE:FREQ=YEARLY;BYDAY=2SU;BYMONTH=3
TZNAME:PDT
TZOFFSETFROM:-0800
TZOFFSETTO:-0700
END:DAYLIGHT
END:VTIMEZONE
BEGIN:VEVENT
DESCRIPTION:\nEvent link: https://thehiverysf.spaces.nexudus.com/en/events/
 view/1209952882/the-hivery-incubator-winter-2020-session--a-3-month-progra
 m-led-by-grace-kraaijvanger\n
DTEND;TZID=America/Los_Angeles:20200124T120000
DTSTAMP:20260420T164133Z
DTSTART;TZID=America/Los_Angeles:20200124T093000
LOCATION:The Hivery San Francisco
SEQUENCE:0
SUMMARY:The Hivery Incubator Winter 2020 Session: A 3-Month Program Led by 
 Grace Kraaijvanger
UID:de71119a-8602-4ee9-bee3-92c0d4824938
END:VEVENT
END:VCALENDAR
