BEGIN:VCALENDAR
PRODID:Nexudus
VERSION:2.0
BEGIN:VTIMEZONE
TZID:America/Los_Angeles
X-LIC-LOCATION:America/Los_Angeles
BEGIN:STANDARD
DTSTART:20241103T020000
RRULE:FREQ=YEARLY;BYDAY=1SU;BYMONTH=11
TZNAME:PST
TZOFFSETFROM:-0700
TZOFFSETTO:-0800
END:STANDARD
BEGIN:DAYLIGHT
DTSTART:20250309T020000
RRULE:FREQ=YEARLY;BYDAY=2SU;BYMONTH=3
TZNAME:PDT
TZOFFSETFROM:-0800
TZOFFSETTO:-0700
END:DAYLIGHT
END:VTIMEZONE
BEGIN:VEVENT
DESCRIPTION:\nEvent link: https://thehiverysf.spaces.nexudus.com/en/events/
 view/1180277131/let-s-have-lunch----master-class-with-grace\n
DTEND;TZID=America/Los_Angeles:20191113T133000
DTSTAMP:20260420T164134Z
DTSTART;TZID=America/Los_Angeles:20191113T110000
LOCATION:The Hivery San Francisco
SEQUENCE:0
SUMMARY:Let's Have Lunch! + Master Class with Grace
UID:9acfe28b-060f-4a97-88b7-345b1bda0f22
END:VEVENT
END:VCALENDAR
