BEGIN:VCALENDAR
PRODID:Nexudus
VERSION:2.0
BEGIN:VTIMEZONE
TZID:America/Los_Angeles
X-LIC-LOCATION:America/Los_Angeles
BEGIN:STANDARD
DTSTART:20241103T020000
RRULE:FREQ=YEARLY;BYDAY=1SU;BYMONTH=11
TZNAME:PST
TZOFFSETFROM:-0700
TZOFFSETTO:-0800
END:STANDARD
BEGIN:DAYLIGHT
DTSTART:20250309T020000
RRULE:FREQ=YEARLY;BYDAY=2SU;BYMONTH=3
TZNAME:PDT
TZOFFSETFROM:-0800
TZOFFSETTO:-0700
END:DAYLIGHT
END:VTIMEZONE
BEGIN:VEVENT
DESCRIPTION:\nEvent link: https://thehiverysf.spaces.nexudus.com/en/events/
 view/1272964709/free-coworking-open-house-in-honor-of-international-women-
 s-day\n
DTEND;TZID=America/Los_Angeles:20200308T150000
DTSTAMP:20260420T131935Z
DTSTART;TZID=America/Los_Angeles:20200308T100000
LOCATION:The Hivery San Francisco
SEQUENCE:0
SUMMARY:Free Coworking Open House in Honor of International Women's Day
UID:5fcbb570-7868-4bf0-bb61-842ef1f41e1b
END:VEVENT
END:VCALENDAR
