BEGIN:VCALENDAR
PRODID:Nexudus
VERSION:2.0
BEGIN:VTIMEZONE
TZID:America/Los_Angeles
X-LIC-LOCATION:America/Los_Angeles
BEGIN:STANDARD
DTSTART:20241103T020000
RRULE:FREQ=YEARLY;BYDAY=1SU;BYMONTH=11
TZNAME:PST
TZOFFSETFROM:-0700
TZOFFSETTO:-0800
END:STANDARD
BEGIN:DAYLIGHT
DTSTART:20250309T020000
RRULE:FREQ=YEARLY;BYDAY=2SU;BYMONTH=3
TZNAME:PDT
TZOFFSETFROM:-0800
TZOFFSETTO:-0700
END:DAYLIGHT
END:VTIMEZONE
BEGIN:VEVENT
DESCRIPTION:\nEvent link: https://thehiverysf.spaces.nexudus.com/en/events/
 view/1272896730/pitch-deck-basics-with-natasha-chatlein\n
DTEND;TZID=America/Los_Angeles:20200310T134500
DTSTAMP:20260420T132245Z
DTSTART;TZID=America/Los_Angeles:20200310T123000
LOCATION:The Hivery San Francisco
SEQUENCE:0
SUMMARY:Pitch Deck Basics with Natasha Chatlein
UID:0dce7cb0-dd57-4a0b-a00e-e53a11ff8f70
END:VEVENT
END:VCALENDAR
