BEGIN:VCALENDAR
PRODID:Nexudus
VERSION:2.0
BEGIN:VTIMEZONE
TZID:America/Los_Angeles
X-LIC-LOCATION:America/Los_Angeles
BEGIN:STANDARD
DTSTART:20241103T020000
RRULE:FREQ=YEARLY;BYDAY=1SU;BYMONTH=11
TZNAME:PST
TZOFFSETFROM:-0700
TZOFFSETTO:-0800
END:STANDARD
BEGIN:DAYLIGHT
DTSTART:20250309T020000
RRULE:FREQ=YEARLY;BYDAY=2SU;BYMONTH=3
TZNAME:PDT
TZOFFSETFROM:-0800
TZOFFSETTO:-0700
END:DAYLIGHT
END:VTIMEZONE
BEGIN:VEVENT
DESCRIPTION:\nEvent link: https://thehiverysf.spaces.nexudus.com/en/events/
 view/1265576370/your-personal-style-as-self-care-with-michelle-moquin\n
DTEND;TZID=America/Los_Angeles:20200317T134500
DTSTAMP:20260420T144412Z
DTSTART;TZID=America/Los_Angeles:20200317T123000
LOCATION:The Hivery San Francisco
SEQUENCE:0
SUMMARY:Your Personal Style as Self Care with Michelle Moquin
UID:13e2e326-629e-443e-b813-48f5297da40c
END:VEVENT
END:VCALENDAR
