BEGIN:VCALENDAR
PRODID:Nexudus
VERSION:2.0
BEGIN:VTIMEZONE
TZID:America/Los_Angeles
X-LIC-LOCATION:America/Los_Angeles
BEGIN:STANDARD
DTSTART:20241103T020000
RRULE:FREQ=YEARLY;BYDAY=1SU;BYMONTH=11
TZNAME:PST
TZOFFSETFROM:-0700
TZOFFSETTO:-0800
END:STANDARD
BEGIN:DAYLIGHT
DTSTART:20250309T020000
RRULE:FREQ=YEARLY;BYDAY=2SU;BYMONTH=3
TZNAME:PDT
TZOFFSETFROM:-0800
TZOFFSETTO:-0700
END:DAYLIGHT
END:VTIMEZONE
BEGIN:VEVENT
DESCRIPTION:\nEvent link: https://thehiverysf.spaces.nexudus.com/en/events/
 view/1253218032/elle-luna--the-crossroads-of-should-and-must-workshop\n
DTEND;TZID=America/Los_Angeles:20200322T160000
DTSTAMP:20260420T114347Z
DTSTART;TZID=America/Los_Angeles:20200322T130000
LOCATION:The Hivery San Francisco
SEQUENCE:0
SUMMARY:Elle Luna: The Crossroads of Should and Must Workshop
UID:22fcc0b3-81e7-46fe-bfda-f3ce597557cc
END:VEVENT
END:VCALENDAR
