BEGIN:VCALENDAR
PRODID:Nexudus
VERSION:2.0
BEGIN:VTIMEZONE
TZID:America/Los_Angeles
X-LIC-LOCATION:America/Los_Angeles
BEGIN:STANDARD
DTSTART:20241103T020000
RRULE:FREQ=YEARLY;BYDAY=1SU;BYMONTH=11
TZNAME:PST
TZOFFSETFROM:-0700
TZOFFSETTO:-0800
END:STANDARD
BEGIN:DAYLIGHT
DTSTART:20250309T020000
RRULE:FREQ=YEARLY;BYDAY=2SU;BYMONTH=3
TZNAME:PDT
TZOFFSETFROM:-0800
TZOFFSETTO:-0700
END:DAYLIGHT
END:VTIMEZONE
BEGIN:VEVENT
DESCRIPTION:\nEvent link: https://thehiverysf.spaces.nexudus.com/en/events/
 view/1190072912/diane-von-furstenberg-at-the-hivery\n
DTEND;TZID=America/Los_Angeles:20191111T170000
DTSTAMP:20260420T163412Z
DTSTART;TZID=America/Los_Angeles:20191111T110000
LOCATION:The Hivery San Francisco
SEQUENCE:0
SUMMARY:Diane von Furstenberg at The Hivery
UID:a73e26cc-3e06-4576-befe-378dfbc6baa0
END:VEVENT
END:VCALENDAR
